BEGIN:VCALENDAR
VERSION:2.0
PRODID:-//Zach Ballantyne - ECPv6.15.20//NONSGML v1.0//EN
CALSCALE:GREGORIAN
METHOD:PUBLISH
X-WR-CALNAME:Zach Ballantyne
X-ORIGINAL-URL:https://zachballantyne.com
X-WR-CALDESC:Events for Zach Ballantyne
REFRESH-INTERVAL;VALUE=DURATION:PT1H
X-Robots-Tag:noindex
X-PUBLISHED-TTL:PT1H
BEGIN:VTIMEZONE
TZID:America/New_York
BEGIN:DAYLIGHT
TZOFFSETFROM:-0500
TZOFFSETTO:-0400
TZNAME:EDT
DTSTART:20240310T070000
END:DAYLIGHT
BEGIN:STANDARD
TZOFFSETFROM:-0400
TZOFFSETTO:-0500
TZNAME:EST
DTSTART:20241103T060000
END:STANDARD
BEGIN:DAYLIGHT
TZOFFSETFROM:-0500
TZOFFSETTO:-0400
TZNAME:EDT
DTSTART:20250309T070000
END:DAYLIGHT
BEGIN:STANDARD
TZOFFSETFROM:-0400
TZOFFSETTO:-0500
TZNAME:EST
DTSTART:20251102T060000
END:STANDARD
BEGIN:DAYLIGHT
TZOFFSETFROM:-0500
TZOFFSETTO:-0400
TZNAME:EDT
DTSTART:20260308T070000
END:DAYLIGHT
BEGIN:STANDARD
TZOFFSETFROM:-0400
TZOFFSETTO:-0500
TZNAME:EST
DTSTART:20261101T060000
END:STANDARD
END:VTIMEZONE
BEGIN:VTIMEZONE
TZID:America/Detroit
BEGIN:DAYLIGHT
TZOFFSETFROM:-0500
TZOFFSETTO:-0400
TZNAME:EDT
DTSTART:20240310T070000
END:DAYLIGHT
BEGIN:STANDARD
TZOFFSETFROM:-0400
TZOFFSETTO:-0500
TZNAME:EST
DTSTART:20241103T060000
END:STANDARD
BEGIN:DAYLIGHT
TZOFFSETFROM:-0500
TZOFFSETTO:-0400
TZNAME:EDT
DTSTART:20250309T070000
END:DAYLIGHT
BEGIN:STANDARD
TZOFFSETFROM:-0400
TZOFFSETTO:-0500
TZNAME:EST
DTSTART:20251102T060000
END:STANDARD
BEGIN:DAYLIGHT
TZOFFSETFROM:-0500
TZOFFSETTO:-0400
TZNAME:EDT
DTSTART:20260308T070000
END:DAYLIGHT
BEGIN:STANDARD
TZOFFSETFROM:-0400
TZOFFSETTO:-0500
TZNAME:EST
DTSTART:20261101T060000
END:STANDARD
END:VTIMEZONE
BEGIN:VTIMEZONE
TZID:UTC
BEGIN:STANDARD
TZOFFSETFROM:+0000
TZOFFSETTO:+0000
TZNAME:UTC
DTSTART:20240101T000000
END:STANDARD
END:VTIMEZONE
BEGIN:VEVENT
DTSTART;TZID=America/New_York:20250608T110000
DTEND;TZID=America/New_York:20250608T123000
DTSTAMP:20260425T103541
CREATED:20250524T022018Z
LAST-MODIFIED:20250606T044627Z
UID:10547-1749380400-1749385800@zachballantyne.com
SUMMARY:Tryouts
DESCRIPTION:
URL:https://zachballantyne.com/event/tryouts-3/
LOCATION:5801 N Aurelius Rd\, Lansing\, MI\, United States
END:VEVENT
BEGIN:VEVENT
DTSTART;TZID=America/New_York:20250608T090000
DTEND;TZID=America/New_York:20250608T103000
DTSTAMP:20260425T103541
CREATED:20250527T022550Z
LAST-MODIFIED:20250605T044044Z
UID:10559-1749373200-1749378600@zachballantyne.com
SUMMARY:2012 Tryouts
DESCRIPTION:
URL:https://zachballantyne.com/event/2012-tryouts-2/
LOCATION:16021 Linden Road\, Linden\, MI\, United States
END:VEVENT
BEGIN:VEVENT
DTSTART;TZID=America/New_York:20250608T090000
DTEND;TZID=America/New_York:20250608T103000
DTSTAMP:20260425T103541
CREATED:20250419T123322Z
LAST-MODIFIED:20250605T044044Z
UID:9294-1749373200-1749378600@zachballantyne.com
SUMMARY:Tryouts
DESCRIPTION:
URL:https://zachballantyne.com/event/tryouts-time-is-tbd-3/
LOCATION:16021 Linden Road\, Linden\, MI\, United States
END:VEVENT
BEGIN:VEVENT
DTSTART;TZID=America/New_York:20250607T160000
DTEND;TZID=America/New_York:20250607T170000
DTSTAMP:20260425T103541
CREATED:20250419T123322Z
LAST-MODIFIED:20250522T022257Z
UID:9293-1749312000-1749315600@zachballantyne.com
SUMMARY:Tryouts  time is TBD
DESCRIPTION:
URL:https://zachballantyne.com/event/tryouts-time-is-tbd-2/
LOCATION:5801 N Aurelius Rd\, Lansing\, MI\, United States
END:VEVENT
BEGIN:VEVENT
DTSTART;TZID=America/New_York:20250607T110000
DTEND;TZID=America/New_York:20250607T123000
DTSTAMP:20260425T103541
CREATED:20250524T022018Z
LAST-MODIFIED:20250606T044627Z
UID:10546-1749294000-1749299400@zachballantyne.com
SUMMARY:Tryouts
DESCRIPTION:
URL:https://zachballantyne.com/event/tryouts-2/
LOCATION:5801 N Aurelius Rd\, Lansing\, MI\, United States
END:VEVENT
BEGIN:VEVENT
DTSTART;TZID=America/New_York:20250607T090000
DTEND;TZID=America/New_York:20250607T103000
DTSTAMP:20260425T103541
CREATED:20250527T022550Z
LAST-MODIFIED:20250605T044044Z
UID:10558-1749286800-1749292200@zachballantyne.com
SUMMARY:2012 Tryouts
DESCRIPTION:
URL:https://zachballantyne.com/event/2012-tryouts/
LOCATION:5202 East Maple Avenue\, Grand Blanc\, MI\, United States
END:VEVENT
BEGIN:VEVENT
DTSTART;TZID=America/New_York:20250607T090000
DTEND;TZID=America/New_York:20250607T103000
DTSTAMP:20260425T103541
CREATED:20250419T123322Z
LAST-MODIFIED:20250605T044044Z
UID:9292-1749286800-1749292200@zachballantyne.com
SUMMARY:Tryouts
DESCRIPTION:
URL:https://zachballantyne.com/event/tryouts-time-is-tbd/
LOCATION:5202 East Maple Avenue\, Grand Blanc\, MI\, United States
END:VEVENT
BEGIN:VEVENT
DTSTART;TZID=America/New_York:20250605T173000
DTEND;TZID=America/New_York:20250605T190000
DTSTAMP:20260425T103541
CREATED:20250524T022018Z
LAST-MODIFIED:20250605T044044Z
UID:10545-1749144600-1749150000@zachballantyne.com
SUMMARY:Open House
DESCRIPTION:
URL:https://zachballantyne.com/event/open-house-4/
LOCATION:5801 N Aurelius Rd\, Lansing\, MI\, United States
END:VEVENT
BEGIN:VEVENT
DTSTART;TZID=America/New_York:20250604T170000
DTEND;TZID=America/New_York:20250604T183000
DTSTAMP:20260425T103541
CREATED:20250527T022550Z
LAST-MODIFIED:20251020T154143Z
UID:10557-1749056400-1749061800@zachballantyne.com
SUMMARY:2012 Open House Training
DESCRIPTION:
URL:https://zachballantyne.com/event/2012-open-house-training/
LOCATION:5202 East Maple Avenue\, Grand Blanc\, MI\, United States
CATEGORIES:Practice
END:VEVENT
BEGIN:VEVENT
DTSTART;TZID=America/New_York:20250604T170000
DTEND;TZID=America/New_York:20250604T180000
DTSTAMP:20260425T103541
CREATED:20250523T022358Z
LAST-MODIFIED:20250604T043227Z
UID:10538-1749056400-1749060000@zachballantyne.com
SUMMARY:Open House
DESCRIPTION:
URL:https://zachballantyne.com/event/open-house-2/
LOCATION:5202 East Maple Avenue\, Grand Blanc\, MI\, United States
END:VEVENT
BEGIN:VEVENT
DTSTART;TZID=America/New_York:20250603T173000
DTEND;TZID=America/New_York:20250603T190000
DTSTAMP:20260425T103541
CREATED:20250524T022018Z
LAST-MODIFIED:20250603T043424Z
UID:10543-1748971800-1748977200@zachballantyne.com
SUMMARY:Open House
DESCRIPTION:
URL:https://zachballantyne.com/event/open-house-3/
LOCATION:5801 N Aurelius Rd\, Lansing\, MI\, United States
END:VEVENT
BEGIN:VEVENT
DTSTART;TZID=America/New_York:20250603T170000
DTEND;TZID=America/New_York:20250603T183000
DTSTAMP:20260425T103541
CREATED:20250527T022547Z
LAST-MODIFIED:20250603T043424Z
UID:10555-1748970000-1748975400@zachballantyne.com
SUMMARY:2012 Open House
DESCRIPTION:
URL:https://zachballantyne.com/event/2012-open-house/
LOCATION:16021 Linden Road\, Linden\, MI\, United States
END:VEVENT
BEGIN:VEVENT
DTSTART;TZID=America/New_York:20250603T170000
DTEND;TZID=America/New_York:20250603T180000
DTSTAMP:20260425T103541
CREATED:20250523T022358Z
LAST-MODIFIED:20250603T043424Z
UID:10537-1748970000-1748973600@zachballantyne.com
SUMMARY:Open House
DESCRIPTION:
URL:https://zachballantyne.com/event/open-house/
LOCATION:16021 Linden Road\, Linden\, MI\, United States
END:VEVENT
BEGIN:VEVENT
DTSTART;TZID=America/Detroit:20250601T163000
DTEND;TZID=America/Detroit:20250601T173000
DTSTAMP:20260425T103541
CREATED:20250419T123321Z
LAST-MODIFIED:20250601T035832Z
UID:9278-1748795400-1748799000@zachballantyne.com
SUMMARY:12 Boys Red at Michigan Stars Elite SC St. Paul's Albanian Stars 12B
DESCRIPTION:https://sportsengine.page.link/?al=sportsengine%3A%2F%2Fevent%2F5b591a74-d67d-42b7-8704-03b55815eb47%3Fteam_id%3D11ef2769-d8db-5434-b90b-1e90367e9396%26type%3Dgame&apn=com.sportngin.android&ibi=com.ngin.sport.iphone&isi=499597400&link=https%3A%2F%2Fapp.sportngin.com%2Fteams%2F11ef2769-d8db-5434-b90b-1e90367e9396%2Fschedule%2Fevent%2F5b591a74-d67d-42b7-8704-03b55815eb47%3Fresource_id%3D5b591a74-d67d-42b7-8704-03b55815eb47%26team_id%3D11ef2769-d8db-5434-b90b-1e90367e9396%26type%3Dgame
URL:https://zachballantyne.com/event/12-boys-red-at-michigan-stars-elite-sc-st-pauls-albanian-stars-12b/
LOCATION:525 West Auburn Road\, 1401 N Rochester Rd\, Rochester\, MI\, United States
CATEGORIES:Games
END:VEVENT
BEGIN:VEVENT
DTSTART;TZID=America/New_York:20250601T110000
DTEND;TZID=America/New_York:20250601T122000
DTSTAMP:20260425T103541
CREATED:20250419T123322Z
LAST-MODIFIED:20250601T035832Z
UID:9291-1748775600-1748780400@zachballantyne.com
SUMMARY:Royal Oak FC 12 Green at 12 Boys Black
DESCRIPTION:https://sportsengine.page.link/?al=sportsengine%3A%2F%2Fevent%2F07c99a40-b075-41f9-9999-788b74afed28%3Fteam_id%3D11ef2769-d8cc-fbfa-88df-567bd37db3b8%26type%3Dgame&apn=com.sportngin.android&ibi=com.ngin.sport.iphone&isi=499597400&link=https%3A%2F%2Fapp.sportngin.com%2Fteams%2F11ef2769-d8cc-fbfa-88df-567bd37db3b8%2Fschedule%2Fevent%2F07c99a40-b075-41f9-9999-788b74afed28%3Fresource_id%3D07c99a40-b075-41f9-9999-788b74afed28%26team_id%3D11ef2769-d8cc-fbfa-88df-567bd37db3b8%26type%3Dgame
URL:https://zachballantyne.com/event/royal-oak-fc-12-green-at-12-boys-black/
LOCATION:16021 Linden Road\, Linden\, MI\, United States
CATEGORIES:Games
END:VEVENT
BEGIN:VEVENT
DTSTART;VALUE=DATE:20250601
DTEND;VALUE=DATE:20250602
DTSTAMP:20260425T103541
CREATED:20250419T123322Z
LAST-MODIFIED:20251020T154458Z
UID:9290-1748736000-1748822399@zachballantyne.com
SUMMARY:Ann Arbor Cup time is TBD
DESCRIPTION:
URL:https://zachballantyne.com/event/ann-arbor-cup-time-is-tbd-3/
LOCATION:MI
CATEGORIES:Games
END:VEVENT
BEGIN:VEVENT
DTSTART;TZID=America/New_York:20250531T160000
DTEND;TZID=America/New_York:20250531T172000
DTSTAMP:20260425T103541
CREATED:20250419T123322Z
LAST-MODIFIED:20250531T033915Z
UID:9289-1748707200-1748712000@zachballantyne.com
SUMMARY:12 Boys Black at BC Fire SC 12 Blue
DESCRIPTION:https://sportsengine.page.link/?al=sportsengine%3A%2F%2Fevent%2F82ab52dc-6015-47cc-9258-91fb32d547b6%3Fteam_id%3D11ef2769-d8cc-fbfa-88df-567bd37db3b8%26type%3Dgame&apn=com.sportngin.android&ibi=com.ngin.sport.iphone&isi=499597400&link=https%3A%2F%2Fapp.sportngin.com%2Fteams%2F11ef2769-d8cc-fbfa-88df-567bd37db3b8%2Fschedule%2Fevent%2F82ab52dc-6015-47cc-9258-91fb32d547b6%3Fresource_id%3D82ab52dc-6015-47cc-9258-91fb32d547b6%26team_id%3D11ef2769-d8cc-fbfa-88df-567bd37db3b8%26type%3Dgame
URL:https://zachballantyne.com/event/12-boys-black-at-bc-fire-sc-12-blue/
LOCATION:12677 Beadle Lake Road\, Battle Creek\, MI\, United States
CATEGORIES:Games
END:VEVENT
BEGIN:VEVENT
DTSTART;VALUE=DATE:20250531
DTEND;VALUE=DATE:20250601
DTSTAMP:20260425T103541
CREATED:20250419T123322Z
LAST-MODIFIED:20251020T154458Z
UID:9287-1748649600-1748735999@zachballantyne.com
SUMMARY:Ann Arbor Cup time is TBD
DESCRIPTION:
URL:https://zachballantyne.com/event/ann-arbor-cup-time-is-tbd-2/
LOCATION:MI
CATEGORIES:Games
END:VEVENT
BEGIN:VEVENT
DTSTART;VALUE=DATE:20250530
DTEND;VALUE=DATE:20250531
DTSTAMP:20260425T103541
CREATED:20250419T123322Z
LAST-MODIFIED:20251020T154458Z
UID:9286-1748563200-1748649599@zachballantyne.com
SUMMARY:Ann Arbor Cup time is TBD
DESCRIPTION:
URL:https://zachballantyne.com/event/ann-arbor-cup-time-is-tbd/
LOCATION:MI
CATEGORIES:Games
END:VEVENT
BEGIN:VEVENT
DTSTART;TZID=America/Detroit:20250529T183000
DTEND;TZID=America/Detroit:20250529T200000
DTSTAMP:20260425T103541
CREATED:20250419T123322Z
LAST-MODIFIED:20251020T154245Z
UID:9284-1748543400-1748548800@zachballantyne.com
SUMMARY:Training - Mint - Rick Hartker
DESCRIPTION:
URL:https://zachballantyne.com/event/training-mint-rick-hartker-5/
LOCATION:5202 East Maple Avenue\, Grand Blanc\, MI\, United States
CATEGORIES:Practice
END:VEVENT
BEGIN:VEVENT
DTSTART;TZID=America/New_York:20250529T183000
DTEND;TZID=America/New_York:20250529T200000
DTSTAMP:20260425T103541
CREATED:20250419T123322Z
LAST-MODIFIED:20251020T154144Z
UID:9285-1748543400-1748548800@zachballantyne.com
SUMMARY:Team Training
DESCRIPTION:
URL:https://zachballantyne.com/event/team-training-24/
LOCATION:5202 East Maple Avenue\, Grand Blanc\, MI\, United States
CATEGORIES:Practice
END:VEVENT
BEGIN:VEVENT
DTSTART;TZID=America/New_York:20250528T173000
DTEND;TZID=America/New_York:20250528T190000
DTSTAMP:20260425T103541
CREATED:20250419T123321Z
LAST-MODIFIED:20251020T154144Z
UID:9283-1748453400-1748458800@zachballantyne.com
SUMMARY:Team Training
DESCRIPTION:
URL:https://zachballantyne.com/event/team-training-23/
LOCATION:5801 N Aurelius Rd\, Lansing\, MI\, United States
CATEGORIES:Practice
END:VEVENT
BEGIN:VEVENT
DTSTART;TZID=America/Detroit:20250527T193000
DTEND;TZID=America/Detroit:20250527T205000
DTSTAMP:20260425T103541
CREATED:20250419T123321Z
LAST-MODIFIED:20250527T022550Z
UID:9282-1748374200-1748379000@zachballantyne.com
SUMMARY:Pato's Magic Soccer Magic Red 2012B at 12 Boys Red
DESCRIPTION:https://sportsengine.page.link/?al=sportsengine%3A%2F%2Fevent%2F22d003fb-9eb1-4a15-9ee5-9f9a830e6bd4%3Fteam_id%3D11ef2769-d8db-5434-b90b-1e90367e9396%26type%3Dgame&apn=com.sportngin.android&ibi=com.ngin.sport.iphone&isi=499597400&link=https%3A%2F%2Fapp.sportngin.com%2Fteams%2F11ef2769-d8db-5434-b90b-1e90367e9396%2Fschedule%2Fevent%2F22d003fb-9eb1-4a15-9ee5-9f9a830e6bd4%3Fresource_id%3D22d003fb-9eb1-4a15-9ee5-9f9a830e6bd4%26team_id%3D11ef2769-d8db-5434-b90b-1e90367e9396%26type%3Dgame
URL:https://zachballantyne.com/event/patos-magic-soccer-magic-red-2012b-at-12-boys-red/
LOCATION:5202 East Maple Avenue\, Grand Blanc\, MI\, United States
CATEGORIES:Games
END:VEVENT
BEGIN:VEVENT
DTSTART;TZID=America/New_York:20250527T183000
DTEND;TZID=America/New_York:20250527T200000
DTSTAMP:20260425T103541
CREATED:20250419T123321Z
LAST-MODIFIED:20251020T154144Z
UID:9281-1748370600-1748376000@zachballantyne.com
SUMMARY:Team Training
DESCRIPTION:
URL:https://zachballantyne.com/event/team-training-22/
LOCATION:16021 Linden Road\, Linden\, MI\, United States
CATEGORIES:Practice
END:VEVENT
BEGIN:VEVENT
DTSTART;TZID=America/New_York:20250527T173000
DTEND;TZID=America/New_York:20250527T190000
DTSTAMP:20260425T103541
CREATED:20250422T220524Z
LAST-MODIFIED:20250527T022550Z
UID:10222-1748367000-1748372400@zachballantyne.com
SUMMARY:Tryouts
DESCRIPTION:
URL:https://zachballantyne.com/event/tryouts/
LOCATION:5801 N Aurelius Rd\, Lansing\, MI\, United States
END:VEVENT
BEGIN:VEVENT
DTSTART;TZID=America/New_York:20250527T173000
DTEND;TZID=America/New_York:20250527T190000
DTSTAMP:20260425T103541
CREATED:20250419T123321Z
LAST-MODIFIED:20251020T154144Z
UID:9280-1748367000-1748372400@zachballantyne.com
SUMMARY:Sports Performance & Directors Training
DESCRIPTION:
URL:https://zachballantyne.com/event/sports-performance-directors-training-6/
LOCATION:5801 N Aurelius Rd\, Lansing\, MI\, United States
CATEGORIES:Practice
END:VEVENT
BEGIN:VEVENT
DTSTART;TZID=America/New_York:20250526T190000
DTEND;TZID=America/New_York:20250526T203000
DTSTAMP:20260425T103541
CREATED:20250419T123321Z
LAST-MODIFIED:20251020T154144Z
UID:9279-1748286000-1748291400@zachballantyne.com
SUMMARY:Team Training
DESCRIPTION:
URL:https://zachballantyne.com/event/team-training-21/
LOCATION:5801 N Aurelius Rd\, Lansing\, MI\, United States
CATEGORIES:Practice
END:VEVENT
BEGIN:VEVENT
DTSTART;TZID=America/Detroit:20250525T141500
DTEND;TZID=America/Detroit:20250525T153000
DTSTAMP:20260425T103541
CREATED:20250520T020215Z
LAST-MODIFIED:20251020T154458Z
UID:10526-1748182500-1748187000@zachballantyne.com
SUMMARY:Possible Championship Game at 12 Boys Red
DESCRIPTION:https://sportsengine.page.link/?al=sportsengine%3A%2F%2Fevent%2F1b7298b2-6f4c-4548-987f-a2d41d9af899%3Fteam_id%3D11ef2769-d8db-5434-b90b-1e90367e9396%26type%3Dgame&apn=com.sportngin.android&ibi=com.ngin.sport.iphone&isi=499597400&link=https%3A%2F%2Fapp.sportngin.com%2Fteams%2F11ef2769-d8db-5434-b90b-1e90367e9396%2Fschedule%2Fevent%2F1b7298b2-6f4c-4548-987f-a2d41d9af899%3Fresource_id%3D1b7298b2-6f4c-4548-987f-a2d41d9af899%26team_id%3D11ef2769-d8db-5434-b90b-1e90367e9396%26type%3Dgame
URL:https://zachballantyne.com/event/possible-championship-game-at-12-boys-red/
LOCATION:1400 E Hamlin Rd\, 1401 N Rochester Rd\, Rochester\, MI\, United States
CATEGORIES:Games
END:VEVENT
BEGIN:VEVENT
DTSTART;TZID=America/Detroit:20250525T091500
DTEND;TZID=America/Detroit:20250525T103000
DTSTAMP:20260425T103541
CREATED:20250520T020213Z
LAST-MODIFIED:20251020T154458Z
UID:10522-1748164500-1748169000@zachballantyne.com
SUMMARY:12 Boys Red at Magic Red/Wh 12B
DESCRIPTION:https://sportsengine.page.link/?al=sportsengine%3A%2F%2Fevent%2Fd2c4b569-676c-43b3-b5f8-9204f8901c9b%3Fteam_id%3D11ef2769-d8db-5434-b90b-1e90367e9396%26type%3Dgame&apn=com.sportngin.android&ibi=com.ngin.sport.iphone&isi=499597400&link=https%3A%2F%2Fapp.sportngin.com%2Fteams%2F11ef2769-d8db-5434-b90b-1e90367e9396%2Fschedule%2Fevent%2Fd2c4b569-676c-43b3-b5f8-9204f8901c9b%3Fresource_id%3Dd2c4b569-676c-43b3-b5f8-9204f8901c9b%26team_id%3D11ef2769-d8db-5434-b90b-1e90367e9396%26type%3Dgame
URL:https://zachballantyne.com/event/12-boys-red-at-magic-red-wh-12b/
LOCATION:1400 E Hamlin Rd\, 1401 N Rochester Rd\, Rochester\, MI\, United States
CATEGORIES:Games
END:VEVENT
BEGIN:VEVENT
DTSTART;VALUE=DATE:20250525
DTEND;VALUE=DATE:20250526
DTSTAMP:20260425T103541
CREATED:20250510T000859Z
LAST-MODIFIED:20251020T154458Z
UID:10495-1748131200-1748217599@zachballantyne.com
SUMMARY:Michigan Soccer Classic Tourney time is TBD
DESCRIPTION:
URL:https://zachballantyne.com/event/michigan-soccer-classic-tourney-time-is-tbd-2/
LOCATION:1400 E Hamlin Rd\, 1401 N Rochester Rd\, Rochester\, MI\, United States
CATEGORIES:Games
END:VEVENT
END:VCALENDAR