BEGIN:VCALENDAR
VERSION:2.0
PRODID:-//Zach Ballantyne - ECPv6.15.20//NONSGML v1.0//EN
CALSCALE:GREGORIAN
METHOD:PUBLISH
X-WR-CALNAME:Zach Ballantyne
X-ORIGINAL-URL:https://zachballantyne.com
X-WR-CALDESC:Events for Zach Ballantyne
REFRESH-INTERVAL;VALUE=DURATION:PT1H
X-Robots-Tag:noindex
X-PUBLISHED-TTL:PT1H
BEGIN:VTIMEZONE
TZID:America/New_York
BEGIN:DAYLIGHT
TZOFFSETFROM:-0500
TZOFFSETTO:-0400
TZNAME:EDT
DTSTART:20240310T070000
END:DAYLIGHT
BEGIN:STANDARD
TZOFFSETFROM:-0400
TZOFFSETTO:-0500
TZNAME:EST
DTSTART:20241103T060000
END:STANDARD
BEGIN:DAYLIGHT
TZOFFSETFROM:-0500
TZOFFSETTO:-0400
TZNAME:EDT
DTSTART:20250309T070000
END:DAYLIGHT
BEGIN:STANDARD
TZOFFSETFROM:-0400
TZOFFSETTO:-0500
TZNAME:EST
DTSTART:20251102T060000
END:STANDARD
BEGIN:DAYLIGHT
TZOFFSETFROM:-0500
TZOFFSETTO:-0400
TZNAME:EDT
DTSTART:20260308T070000
END:DAYLIGHT
BEGIN:STANDARD
TZOFFSETFROM:-0400
TZOFFSETTO:-0500
TZNAME:EST
DTSTART:20261101T060000
END:STANDARD
BEGIN:DAYLIGHT
TZOFFSETFROM:-0500
TZOFFSETTO:-0400
TZNAME:EDT
DTSTART:20270314T070000
END:DAYLIGHT
BEGIN:STANDARD
TZOFFSETFROM:-0400
TZOFFSETTO:-0500
TZNAME:EST
DTSTART:20271107T060000
END:STANDARD
END:VTIMEZONE
BEGIN:VTIMEZONE
TZID:America/Detroit
BEGIN:DAYLIGHT
TZOFFSETFROM:-0500
TZOFFSETTO:-0400
TZNAME:EDT
DTSTART:20240310T070000
END:DAYLIGHT
BEGIN:STANDARD
TZOFFSETFROM:-0400
TZOFFSETTO:-0500
TZNAME:EST
DTSTART:20241103T060000
END:STANDARD
BEGIN:DAYLIGHT
TZOFFSETFROM:-0500
TZOFFSETTO:-0400
TZNAME:EDT
DTSTART:20250309T070000
END:DAYLIGHT
BEGIN:STANDARD
TZOFFSETFROM:-0400
TZOFFSETTO:-0500
TZNAME:EST
DTSTART:20251102T060000
END:STANDARD
BEGIN:DAYLIGHT
TZOFFSETFROM:-0500
TZOFFSETTO:-0400
TZNAME:EDT
DTSTART:20260308T070000
END:DAYLIGHT
BEGIN:STANDARD
TZOFFSETFROM:-0400
TZOFFSETTO:-0500
TZNAME:EST
DTSTART:20261101T060000
END:STANDARD
END:VTIMEZONE
BEGIN:VTIMEZONE
TZID:UTC
BEGIN:STANDARD
TZOFFSETFROM:+0000
TZOFFSETTO:+0000
TZNAME:UTC
DTSTART:20240101T000000
END:STANDARD
END:VTIMEZONE
BEGIN:VEVENT
DTSTART;VALUE=DATE:20260419
DTEND;VALUE=DATE:20260420
DTSTAMP:20260425T214500
CREATED:20251020T153537Z
LAST-MODIFIED:20251020T153933Z
UID:10812-1776556800-1776643199@zachballantyne.com
SUMMARY:Capital Area Boys Academy 12 Gray vs Nationals SC
DESCRIPTION:Game Type: Home\nUniform: Red Jersey\, Blue Shorts and Red Socks\nOpponent: Nationals SC
URL:https://zachballantyne.com/event/capital-area-boys-academy-12-gray-vs-nationals-sc/
LOCATION:Hope Sports Complex  5801 Aurelius Rd\, Lansing\, MI\, United States
CATEGORIES:Games
ORGANIZER;CN="Nationals Soccer":MAILTO:info@nationalssoccer.com
END:VEVENT
BEGIN:VEVENT
DTSTART;VALUE=DATE:20260418
DTEND;VALUE=DATE:20260419
DTSTAMP:20260425T214500
CREATED:20251020T153537Z
LAST-MODIFIED:20251020T153851Z
UID:10811-1776470400-1776556799@zachballantyne.com
SUMMARY:Capital Area Boys Academy 12 Gray vs Liverpool
DESCRIPTION:Game Type: Home\nUniform: White Jersey\, Red Shorts and White Socks\nOpponent: Liverpool
URL:https://zachballantyne.com/event/capital-area-boys-academy-12-gray-vs-liverpool/
LOCATION:Hope Sports Complex  5801 Aurelius Rd\, Lansing\, MI\, United States
CATEGORIES:Games
ORGANIZER;CN="Nationals Soccer":MAILTO:info@nationalssoccer.com
END:VEVENT
BEGIN:VEVENT
DTSTART;VALUE=DATE:20260412
DTEND;VALUE=DATE:20260413
DTSTAMP:20260425T214500
CREATED:20251020T153537Z
LAST-MODIFIED:20251020T154458Z
UID:10809-1775952000-1776038399@zachballantyne.com
SUMMARY:Capital Area Boys Academy 12 Gray @ CAU Force
DESCRIPTION:Game Type: Away\nUniform: White Jersey\, Red Shorts and White Socks\nOpponent: CAU Force
URL:https://zachballantyne.com/event/capital-area-boys-academy-12-gray-cau-force/
CATEGORIES:Games
ORGANIZER;CN="Nationals Soccer":MAILTO:info@nationalssoccer.com
END:VEVENT
BEGIN:VEVENT
DTSTART;VALUE=DATE:20260411
DTEND;VALUE=DATE:20260412
DTSTAMP:20260425T214500
CREATED:20251020T153537Z
LAST-MODIFIED:20251020T153944Z
UID:10808-1775865600-1775951999@zachballantyne.com
SUMMARY:Capital Area Boys Academy 12 Gray @ North FC
DESCRIPTION:Game Type: Away\nUniform: Red Jersey\, Blue Shorts and Red Socks\nOpponent: North FC
URL:https://zachballantyne.com/event/capital-area-boys-academy-12-gray-north-fc/
CATEGORIES:Games
ORGANIZER;CN="Nationals Soccer":MAILTO:info@nationalssoccer.com
END:VEVENT
BEGIN:VEVENT
DTSTART;VALUE=DATE:20260322
DTEND;VALUE=DATE:20260323
DTSTAMP:20260425T214500
CREATED:20251020T153536Z
LAST-MODIFIED:20251020T154009Z
UID:10801-1774137600-1774223999@zachballantyne.com
SUMMARY:Capital Area Boys Academy 12 Gray @ Pacesetter
DESCRIPTION:Game Type: Away\nUniform: White Jersey\, Red Shorts and White Socks\nOpponent: Pacesetter
URL:https://zachballantyne.com/event/capital-area-boys-academy-12-gray-pacesetter/
CATEGORIES:Games
ORGANIZER;CN="Nationals Soccer":MAILTO:info@nationalssoccer.com
END:VEVENT
BEGIN:VEVENT
DTSTART;VALUE=DATE:20260321
DTEND;VALUE=DATE:20260322
DTSTAMP:20260425T214500
CREATED:20251020T153536Z
LAST-MODIFIED:20251020T154015Z
UID:10800-1774051200-1774137599@zachballantyne.com
SUMMARY:Capital Area Boys Academy 12 Gray @ Nationals SC
DESCRIPTION:Game Type: Away\nUniform: Red Jersey\, Blue Shorts and Red Socks\nOpponent: Nationals SC
URL:https://zachballantyne.com/event/capital-area-boys-academy-12-gray-nationals-sc/
CATEGORIES:Games
ORGANIZER;CN="Nationals Soccer":MAILTO:info@nationalssoccer.com
END:VEVENT
BEGIN:VEVENT
DTSTART;VALUE=DATE:20260315
DTEND;VALUE=DATE:20260316
DTSTAMP:20260425T214500
CREATED:20251020T153536Z
LAST-MODIFIED:20251020T154026Z
UID:10797-1773532800-1773619199@zachballantyne.com
SUMMARY:Capital Area Boys Academy 12 Gray vs GTFC
DESCRIPTION:Game Type: Home\nUniform: Red Jersey\, Blue Shorts and Red Socks\nOpponent: GTFC
URL:https://zachballantyne.com/event/capital-area-boys-academy-12-gray-vs-gtfc/
LOCATION:Hope Sports Complex  5801 Aurelius Rd\, Lansing\, MI\, United States
CATEGORIES:Games
ORGANIZER;CN="Nationals Soccer":MAILTO:info@nationalssoccer.com
END:VEVENT
BEGIN:VEVENT
DTSTART;VALUE=DATE:20260314
DTEND;VALUE=DATE:20260315
DTSTAMP:20260425T214500
CREATED:20251020T153536Z
LAST-MODIFIED:20251020T154037Z
UID:10796-1773446400-1773532799@zachballantyne.com
SUMMARY:Capital Area Boys Academy 12 Gray vs Pacesetter
DESCRIPTION:Game Type: Home\nUniform: White Jersey\, Red Shorts and White Socks\nOpponent: Pacesetter
URL:https://zachballantyne.com/event/capital-area-boys-academy-12-gray-vs-pacesetter/
LOCATION:Hope Sports Complex  5801 Aurelius Rd\, Lansing\, MI\, United States
CATEGORIES:Games
ORGANIZER;CN="Nationals Soccer":MAILTO:info@nationalssoccer.com
END:VEVENT
BEGIN:VEVENT
DTSTART;TZID=America/New_York:20251101T130000
DTEND;TZID=America/New_York:20251101T142000
DTSTAMP:20260425T214500
CREATED:20251020T153508Z
LAST-MODIFIED:20251020T154458Z
UID:10723-1762002000-1762006800@zachballantyne.com
SUMMARY:Genesee 12 Boys Black vs Monroe United 12B NL
DESCRIPTION:Field # 6\nArrival: 45 minutes in advance\nGame Type: Home\nUniform: White / Blue / White\nOpponent: Monroe United 12B NL
URL:https://zachballantyne.com/event/genesee-12-boys-black-vs-monroe-united-12b-nl/
LOCATION:Deer Run Soccer Park  16021 Linden Rd\, Linden\, MI\, United States
CATEGORIES:Games
ORGANIZER;CN="Nationals Soccer":MAILTO:info@nationalssoccer.com
END:VEVENT
BEGIN:VEVENT
DTSTART;TZID=America/New_York:20251026T150000
DTEND;TZID=America/New_York:20251026T162000
DTSTAMP:20260425T214500
CREATED:20251020T153507Z
LAST-MODIFIED:20251020T154458Z
UID:10719-1761490800-1761495600@zachballantyne.com
SUMMARY:Genesee 12 Boys Black vs Pato's Magic Black 2012B
DESCRIPTION:Field # 6\nArrival: 45 minutes in advance\nGame Type: Home\nUniform: White / Blue / White\nOpponent: Pato’s Magic Black 2012B
URL:https://zachballantyne.com/event/genesee-12-boys-black-vs-patos-magic-black-2012b/
LOCATION:Deer Run Soccer Park  16021 Linden Rd\, Linden\, MI\, United States
CATEGORIES:Games
ORGANIZER;CN="Nationals Soccer":MAILTO:info@nationalssoccer.com
END:VEVENT
BEGIN:VEVENT
DTSTART;TZID=America/Detroit:20250601T163000
DTEND;TZID=America/Detroit:20250601T173000
DTSTAMP:20260425T214500
CREATED:20250419T123321Z
LAST-MODIFIED:20250601T035832Z
UID:9278-1748795400-1748799000@zachballantyne.com
SUMMARY:12 Boys Red at Michigan Stars Elite SC St. Paul's Albanian Stars 12B
DESCRIPTION:https://sportsengine.page.link/?al=sportsengine%3A%2F%2Fevent%2F5b591a74-d67d-42b7-8704-03b55815eb47%3Fteam_id%3D11ef2769-d8db-5434-b90b-1e90367e9396%26type%3Dgame&apn=com.sportngin.android&ibi=com.ngin.sport.iphone&isi=499597400&link=https%3A%2F%2Fapp.sportngin.com%2Fteams%2F11ef2769-d8db-5434-b90b-1e90367e9396%2Fschedule%2Fevent%2F5b591a74-d67d-42b7-8704-03b55815eb47%3Fresource_id%3D5b591a74-d67d-42b7-8704-03b55815eb47%26team_id%3D11ef2769-d8db-5434-b90b-1e90367e9396%26type%3Dgame
URL:https://zachballantyne.com/event/12-boys-red-at-michigan-stars-elite-sc-st-pauls-albanian-stars-12b/
LOCATION:525 West Auburn Road\, 1401 N Rochester Rd\, Rochester\, MI\, United States
CATEGORIES:Games
END:VEVENT
BEGIN:VEVENT
DTSTART;TZID=America/New_York:20250601T110000
DTEND;TZID=America/New_York:20250601T122000
DTSTAMP:20260425T214500
CREATED:20250419T123322Z
LAST-MODIFIED:20250601T035832Z
UID:9291-1748775600-1748780400@zachballantyne.com
SUMMARY:Royal Oak FC 12 Green at 12 Boys Black
DESCRIPTION:https://sportsengine.page.link/?al=sportsengine%3A%2F%2Fevent%2F07c99a40-b075-41f9-9999-788b74afed28%3Fteam_id%3D11ef2769-d8cc-fbfa-88df-567bd37db3b8%26type%3Dgame&apn=com.sportngin.android&ibi=com.ngin.sport.iphone&isi=499597400&link=https%3A%2F%2Fapp.sportngin.com%2Fteams%2F11ef2769-d8cc-fbfa-88df-567bd37db3b8%2Fschedule%2Fevent%2F07c99a40-b075-41f9-9999-788b74afed28%3Fresource_id%3D07c99a40-b075-41f9-9999-788b74afed28%26team_id%3D11ef2769-d8cc-fbfa-88df-567bd37db3b8%26type%3Dgame
URL:https://zachballantyne.com/event/royal-oak-fc-12-green-at-12-boys-black/
LOCATION:16021 Linden Road\, Linden\, MI\, United States
CATEGORIES:Games
END:VEVENT
BEGIN:VEVENT
DTSTART;VALUE=DATE:20250601
DTEND;VALUE=DATE:20250602
DTSTAMP:20260425T214500
CREATED:20250419T123322Z
LAST-MODIFIED:20251020T154458Z
UID:9290-1748736000-1748822399@zachballantyne.com
SUMMARY:Ann Arbor Cup time is TBD
DESCRIPTION:
URL:https://zachballantyne.com/event/ann-arbor-cup-time-is-tbd-3/
CATEGORIES:Games
END:VEVENT
BEGIN:VEVENT
DTSTART;TZID=America/New_York:20250531T160000
DTEND;TZID=America/New_York:20250531T172000
DTSTAMP:20260425T214500
CREATED:20250419T123322Z
LAST-MODIFIED:20250531T033915Z
UID:9289-1748707200-1748712000@zachballantyne.com
SUMMARY:12 Boys Black at BC Fire SC 12 Blue
DESCRIPTION:https://sportsengine.page.link/?al=sportsengine%3A%2F%2Fevent%2F82ab52dc-6015-47cc-9258-91fb32d547b6%3Fteam_id%3D11ef2769-d8cc-fbfa-88df-567bd37db3b8%26type%3Dgame&apn=com.sportngin.android&ibi=com.ngin.sport.iphone&isi=499597400&link=https%3A%2F%2Fapp.sportngin.com%2Fteams%2F11ef2769-d8cc-fbfa-88df-567bd37db3b8%2Fschedule%2Fevent%2F82ab52dc-6015-47cc-9258-91fb32d547b6%3Fresource_id%3D82ab52dc-6015-47cc-9258-91fb32d547b6%26team_id%3D11ef2769-d8cc-fbfa-88df-567bd37db3b8%26type%3Dgame
URL:https://zachballantyne.com/event/12-boys-black-at-bc-fire-sc-12-blue/
LOCATION:12677 Beadle Lake Road\, Battle Creek\, MI\, United States
CATEGORIES:Games
END:VEVENT
BEGIN:VEVENT
DTSTART;VALUE=DATE:20250531
DTEND;VALUE=DATE:20250601
DTSTAMP:20260425T214500
CREATED:20250419T123322Z
LAST-MODIFIED:20251020T154458Z
UID:9287-1748649600-1748735999@zachballantyne.com
SUMMARY:Ann Arbor Cup time is TBD
DESCRIPTION:
URL:https://zachballantyne.com/event/ann-arbor-cup-time-is-tbd-2/
CATEGORIES:Games
END:VEVENT
BEGIN:VEVENT
DTSTART;VALUE=DATE:20250530
DTEND;VALUE=DATE:20250531
DTSTAMP:20260425T214500
CREATED:20250419T123322Z
LAST-MODIFIED:20251020T154458Z
UID:9286-1748563200-1748649599@zachballantyne.com
SUMMARY:Ann Arbor Cup time is TBD
DESCRIPTION:
URL:https://zachballantyne.com/event/ann-arbor-cup-time-is-tbd/
CATEGORIES:Games
END:VEVENT
BEGIN:VEVENT
DTSTART;TZID=America/Detroit:20250527T193000
DTEND;TZID=America/Detroit:20250527T205000
DTSTAMP:20260425T214500
CREATED:20250419T123321Z
LAST-MODIFIED:20250527T022550Z
UID:9282-1748374200-1748379000@zachballantyne.com
SUMMARY:Pato's Magic Soccer Magic Red 2012B at 12 Boys Red
DESCRIPTION:https://sportsengine.page.link/?al=sportsengine%3A%2F%2Fevent%2F22d003fb-9eb1-4a15-9ee5-9f9a830e6bd4%3Fteam_id%3D11ef2769-d8db-5434-b90b-1e90367e9396%26type%3Dgame&apn=com.sportngin.android&ibi=com.ngin.sport.iphone&isi=499597400&link=https%3A%2F%2Fapp.sportngin.com%2Fteams%2F11ef2769-d8db-5434-b90b-1e90367e9396%2Fschedule%2Fevent%2F22d003fb-9eb1-4a15-9ee5-9f9a830e6bd4%3Fresource_id%3D22d003fb-9eb1-4a15-9ee5-9f9a830e6bd4%26team_id%3D11ef2769-d8db-5434-b90b-1e90367e9396%26type%3Dgame
URL:https://zachballantyne.com/event/patos-magic-soccer-magic-red-2012b-at-12-boys-red/
LOCATION:5202 East Maple Avenue\, Grand Blanc\, MI\, United States
CATEGORIES:Games
END:VEVENT
BEGIN:VEVENT
DTSTART;TZID=America/Detroit:20250525T141500
DTEND;TZID=America/Detroit:20250525T153000
DTSTAMP:20260425T214500
CREATED:20250520T020215Z
LAST-MODIFIED:20251020T154458Z
UID:10526-1748182500-1748187000@zachballantyne.com
SUMMARY:Possible Championship Game at 12 Boys Red
DESCRIPTION:https://sportsengine.page.link/?al=sportsengine%3A%2F%2Fevent%2F1b7298b2-6f4c-4548-987f-a2d41d9af899%3Fteam_id%3D11ef2769-d8db-5434-b90b-1e90367e9396%26type%3Dgame&apn=com.sportngin.android&ibi=com.ngin.sport.iphone&isi=499597400&link=https%3A%2F%2Fapp.sportngin.com%2Fteams%2F11ef2769-d8db-5434-b90b-1e90367e9396%2Fschedule%2Fevent%2F1b7298b2-6f4c-4548-987f-a2d41d9af899%3Fresource_id%3D1b7298b2-6f4c-4548-987f-a2d41d9af899%26team_id%3D11ef2769-d8db-5434-b90b-1e90367e9396%26type%3Dgame
URL:https://zachballantyne.com/event/possible-championship-game-at-12-boys-red/
LOCATION:1400 E Hamlin Rd\, 1401 N Rochester Rd\, Rochester\, MI\, United States
CATEGORIES:Games
END:VEVENT
BEGIN:VEVENT
DTSTART;TZID=America/Detroit:20250525T091500
DTEND;TZID=America/Detroit:20250525T103000
DTSTAMP:20260425T214500
CREATED:20250520T020213Z
LAST-MODIFIED:20251020T154458Z
UID:10522-1748164500-1748169000@zachballantyne.com
SUMMARY:12 Boys Red at Magic Red/Wh 12B
DESCRIPTION:https://sportsengine.page.link/?al=sportsengine%3A%2F%2Fevent%2Fd2c4b569-676c-43b3-b5f8-9204f8901c9b%3Fteam_id%3D11ef2769-d8db-5434-b90b-1e90367e9396%26type%3Dgame&apn=com.sportngin.android&ibi=com.ngin.sport.iphone&isi=499597400&link=https%3A%2F%2Fapp.sportngin.com%2Fteams%2F11ef2769-d8db-5434-b90b-1e90367e9396%2Fschedule%2Fevent%2Fd2c4b569-676c-43b3-b5f8-9204f8901c9b%3Fresource_id%3Dd2c4b569-676c-43b3-b5f8-9204f8901c9b%26team_id%3D11ef2769-d8db-5434-b90b-1e90367e9396%26type%3Dgame
URL:https://zachballantyne.com/event/12-boys-red-at-magic-red-wh-12b/
LOCATION:1400 E Hamlin Rd\, 1401 N Rochester Rd\, Rochester\, MI\, United States
CATEGORIES:Games
END:VEVENT
BEGIN:VEVENT
DTSTART;VALUE=DATE:20250525
DTEND;VALUE=DATE:20250526
DTSTAMP:20260425T214500
CREATED:20250510T000859Z
LAST-MODIFIED:20251020T154458Z
UID:10495-1748131200-1748217599@zachballantyne.com
SUMMARY:Michigan Soccer Classic Tourney time is TBD
DESCRIPTION:
URL:https://zachballantyne.com/event/michigan-soccer-classic-tourney-time-is-tbd-2/
LOCATION:1400 E Hamlin Rd\, 1401 N Rochester Rd\, Rochester\, MI\, United States
CATEGORIES:Games
END:VEVENT
BEGIN:VEVENT
DTSTART;TZID=America/Detroit:20250524T103000
DTEND;TZID=America/Detroit:20250524T114500
DTSTAMP:20260425T214500
CREATED:20250520T020213Z
LAST-MODIFIED:20251020T154458Z
UID:10521-1748082600-1748087100@zachballantyne.com
SUMMARY:12 Boys Red at MI Jags Novi 12B White
DESCRIPTION:https://sportsengine.page.link/?al=sportsengine%3A%2F%2Fevent%2Fdec80394-a7bf-48c8-9575-7f5f1554f536%3Fteam_id%3D11ef2769-d8db-5434-b90b-1e90367e9396%26type%3Dgame&apn=com.sportngin.android&ibi=com.ngin.sport.iphone&isi=499597400&link=https%3A%2F%2Fapp.sportngin.com%2Fteams%2F11ef2769-d8db-5434-b90b-1e90367e9396%2Fschedule%2Fevent%2Fdec80394-a7bf-48c8-9575-7f5f1554f536%3Fresource_id%3Ddec80394-a7bf-48c8-9575-7f5f1554f536%26team_id%3D11ef2769-d8db-5434-b90b-1e90367e9396%26type%3Dgame
URL:https://zachballantyne.com/event/12-boys-red-at-mi-jags-novi-12b-white/
LOCATION:1400 E Hamlin Rd\, 1401 N Rochester Rd\, Rochester\, MI\, United States
CATEGORIES:Games
END:VEVENT
BEGIN:VEVENT
DTSTART;TZID=America/Detroit:20250524T080000
DTEND;TZID=America/Detroit:20250524T091500
DTSTAMP:20260425T214500
CREATED:20250520T020212Z
LAST-MODIFIED:20251020T154458Z
UID:10520-1748073600-1748078100@zachballantyne.com
SUMMARY:Sports Plus 2012B at 12 Boys Red
DESCRIPTION:https://sportsengine.page.link/?al=sportsengine%3A%2F%2Fevent%2Fbe6f5be1-c6d8-4ab6-9004-ca59c15175b0%3Fteam_id%3D11ef2769-d8db-5434-b90b-1e90367e9396%26type%3Dgame&apn=com.sportngin.android&ibi=com.ngin.sport.iphone&isi=499597400&link=https%3A%2F%2Fapp.sportngin.com%2Fteams%2F11ef2769-d8db-5434-b90b-1e90367e9396%2Fschedule%2Fevent%2Fbe6f5be1-c6d8-4ab6-9004-ca59c15175b0%3Fresource_id%3Dbe6f5be1-c6d8-4ab6-9004-ca59c15175b0%26team_id%3D11ef2769-d8db-5434-b90b-1e90367e9396%26type%3Dgame
URL:https://zachballantyne.com/event/sports-plus-2012b-at-12-boys-red/
LOCATION:1400 E Hamlin Rd\, 1401 N Rochester Rd\, Rochester\, MI\, United States
CATEGORIES:Games
END:VEVENT
BEGIN:VEVENT
DTSTART;TZID=America/Detroit:20250520T190000
DTEND;TZID=America/Detroit:20250520T202000
DTSTAMP:20260425T214500
CREATED:20250419T123321Z
LAST-MODIFIED:20250520T020214Z
UID:9273-1747767600-1747772400@zachballantyne.com
SUMMARY:12 Boys Red at Goodrich Soccer Club GSC 12 Boys
DESCRIPTION:https://sportsengine.page.link/?al=sportsengine%3A%2F%2Fevent%2Fedb57e20-946f-48fc-b2a8-9dd96c7dfb24%3Fteam_id%3D11ef2769-d8db-5434-b90b-1e90367e9396%26type%3Dgame&apn=com.sportngin.android&ibi=com.ngin.sport.iphone&isi=499597400&link=https%3A%2F%2Fapp.sportngin.com%2Fteams%2F11ef2769-d8db-5434-b90b-1e90367e9396%2Fschedule%2Fevent%2Fedb57e20-946f-48fc-b2a8-9dd96c7dfb24%3Fresource_id%3Dedb57e20-946f-48fc-b2a8-9dd96c7dfb24%26team_id%3D11ef2769-d8db-5434-b90b-1e90367e9396%26type%3Dgame
URL:https://zachballantyne.com/event/12-boys-red-at-goodrich-soccer-club-gsc-12-boys/
LOCATION:7500 Gale Road\, Goodrich\, MI\, United States
CATEGORIES:Games
END:VEVENT
BEGIN:VEVENT
DTSTART;TZID=America/New_York:20250518T180000
DTEND;TZID=America/New_York:20250518T192000
DTSTAMP:20260425T214500
CREATED:20250419T123321Z
LAST-MODIFIED:20251020T154459Z
UID:9268-1747591200-1747596000@zachballantyne.com
SUMMARY:Plymouth Reign 12 Green at 12 Boys Black
DESCRIPTION:https://sportsengine.page.link/?al=sportsengine%3A%2F%2Fevent%2Fc3d17ddc-8a45-4c04-b2e7-fe4be30706db%3Fteam_id%3D11ef2769-d8cc-fbfa-88df-567bd37db3b8%26type%3Dgame&apn=com.sportngin.android&ibi=com.ngin.sport.iphone&isi=499597400&link=https%3A%2F%2Fapp.sportngin.com%2Fteams%2F11ef2769-d8cc-fbfa-88df-567bd37db3b8%2Fschedule%2Fevent%2Fc3d17ddc-8a45-4c04-b2e7-fe4be30706db%3Fresource_id%3Dc3d17ddc-8a45-4c04-b2e7-fe4be30706db%26team_id%3D11ef2769-d8cc-fbfa-88df-567bd37db3b8%26type%3Dgame
URL:https://zachballantyne.com/event/plymouth-reign-12-green-at-12-boys-black/
LOCATION:5202 East Maple Avenue\, Grand Blanc\, MI\, United States
CATEGORIES:Games
END:VEVENT
BEGIN:VEVENT
DTSTART;TZID=America/New_York:20250518T130000
DTEND;TZID=America/New_York:20250518T142000
DTSTAMP:20260425T214500
CREATED:20250419T123321Z
LAST-MODIFIED:20251020T154459Z
UID:9267-1747573200-1747578000@zachballantyne.com
SUMMARY:CA Boys Academy 12 at Liverpool
DESCRIPTION:
URL:https://zachballantyne.com/event/ca-boys-academy-12-at-liverpool/
LOCATION:1900 Fuller Rd\, Ann Arbor\, MI\, United States
CATEGORIES:Games
END:VEVENT
BEGIN:VEVENT
DTSTART;TZID=America/New_York:20250517T110000
DTEND;TZID=America/New_York:20250517T123000
DTSTAMP:20260425T214500
CREATED:20250419T123321Z
LAST-MODIFIED:20251020T154459Z
UID:9265-1747479600-1747485000@zachballantyne.com
SUMMARY:CA Boys Academy 12 at Canton United
DESCRIPTION:
URL:https://zachballantyne.com/event/ca-boys-academy-12-at-canton-united-time-is-tbd/
LOCATION:2020 E Maple St\, Canton\, OH\, United States
CATEGORIES:Games
END:VEVENT
BEGIN:VEVENT
DTSTART;TZID=America/Detroit:20250515T184500
DTEND;TZID=America/Detroit:20250515T200500
DTSTAMP:20260425T214500
CREATED:20250419T123321Z
LAST-MODIFIED:20251020T154459Z
UID:9264-1747334700-1747339500@zachballantyne.com
SUMMARY:12 Boys Red at Pato's Magic Soccer Magic Black 2013B
DESCRIPTION:https://sportsengine.page.link/?al=sportsengine%3A%2F%2Fevent%2Fcab17101-23f5-4f40-80a7-effb2150e7d9%3Fteam_id%3D11ef2769-d8db-5434-b90b-1e90367e9396%26type%3Dgame&apn=com.sportngin.android&ibi=com.ngin.sport.iphone&isi=499597400&link=https%3A%2F%2Fapp.sportngin.com%2Fteams%2F11ef2769-d8db-5434-b90b-1e90367e9396%2Fschedule%2Fevent%2Fcab17101-23f5-4f40-80a7-effb2150e7d9%3Fresource_id%3Dcab17101-23f5-4f40-80a7-effb2150e7d9%26team_id%3D11ef2769-d8db-5434-b90b-1e90367e9396%26type%3Dgame
URL:https://zachballantyne.com/event/12-boys-red-at-patos-magic-soccer-magic-black-2013b/
LOCATION:1400 E Hamlin Rd\, 1401 N Rochester Rd\, Rochester\, MI\, United States
CATEGORIES:Games
END:VEVENT
BEGIN:VEVENT
DTSTART;TZID=America/New_York:20250514T183000
DTEND;TZID=America/New_York:20250514T195000
DTSTAMP:20260425T214500
CREATED:20250511T002806Z
LAST-MODIFIED:20251020T154458Z
UID:10498-1747247400-1747252200@zachballantyne.com
SUMMARY:12 Boys Black at MI Jags Lansing 12 Green
DESCRIPTION:https://sportsengine.page.link/?al=sportsengine%3A%2F%2Fevent%2F31053d7a-e753-427e-bd37-ef6ad3421566%3Fteam_id%3D11ef2769-d8cc-fbfa-88df-567bd37db3b8%26type%3Dgame&apn=com.sportngin.android&ibi=com.ngin.sport.iphone&isi=499597400&link=https%3A%2F%2Fapp.sportngin.com%2Fteams%2F11ef2769-d8cc-fbfa-88df-567bd37db3b8%2Fschedule%2Fevent%2F31053d7a-e753-427e-bd37-ef6ad3421566%3Fresource_id%3D31053d7a-e753-427e-bd37-ef6ad3421566%26team_id%3D11ef2769-d8cc-fbfa-88df-567bd37db3b8%26type%3Dgame
URL:https://zachballantyne.com/event/12-boys-black-at-mi-jags-lansing-12-green/
LOCATION:Holt\, Holt\, MI\, United States
CATEGORIES:Games
END:VEVENT
BEGIN:VEVENT
DTSTART;TZID=America/Detroit:20250513T190000
DTEND;TZID=America/Detroit:20250513T202000
DTSTAMP:20260425T214500
CREATED:20250428T225737Z
LAST-MODIFIED:20251020T154458Z
UID:10475-1747162800-1747167600@zachballantyne.com
SUMMARY:Michigan Stars Elite SC St. Paul's Albanian Stars 12B at 12 Boys Red
DESCRIPTION:https://sportsengine.page.link/?al=sportsengine%3A%2F%2Fevent%2Ff5005d49-6e1d-4b19-98aa-f611adb244a3%3Fteam_id%3D11ef2769-d8db-5434-b90b-1e90367e9396%26type%3Dgame&apn=com.sportngin.android&ibi=com.ngin.sport.iphone&isi=499597400&link=https%3A%2F%2Fapp.sportngin.com%2Fteams%2F11ef2769-d8db-5434-b90b-1e90367e9396%2Fschedule%2Fevent%2Ff5005d49-6e1d-4b19-98aa-f611adb244a3%3Fresource_id%3Df5005d49-6e1d-4b19-98aa-f611adb244a3%26team_id%3D11ef2769-d8db-5434-b90b-1e90367e9396%26type%3Dgame
URL:https://zachballantyne.com/event/michigan-stars-elite-sc-st-pauls-albanian-stars-12b-at-12-boys-red/
LOCATION:16021 Linden Road\, Linden\, MI\, United States
CATEGORIES:Games
END:VEVENT
BEGIN:VEVENT
DTSTART;TZID=America/New_York:20250511T150000
DTEND;TZID=America/New_York:20250511T162000
DTSTAMP:20260425T214500
CREATED:20250419T123321Z
LAST-MODIFIED:20251020T154459Z
UID:9256-1746975600-1746980400@zachballantyne.com
SUMMARY:Nationals Troy 12 Black at 12 Boys Black
DESCRIPTION:https://sportsengine.page.link/?al=sportsengine%3A%2F%2Fevent%2F7c0fb209-d8be-4334-9e9f-729a36763f01%3Fteam_id%3D11ef2769-d8cc-fbfa-88df-567bd37db3b8%26type%3Dgame&apn=com.sportngin.android&ibi=com.ngin.sport.iphone&isi=499597400&link=https%3A%2F%2Fapp.sportngin.com%2Fteams%2F11ef2769-d8cc-fbfa-88df-567bd37db3b8%2Fschedule%2Fevent%2F7c0fb209-d8be-4334-9e9f-729a36763f01%3Fresource_id%3D7c0fb209-d8be-4334-9e9f-729a36763f01%26team_id%3D11ef2769-d8cc-fbfa-88df-567bd37db3b8%26type%3Dgame
URL:https://zachballantyne.com/event/nationals-troy-12-black-at-12-boys-black/
LOCATION:5202 East Maple Avenue\, Grand Blanc\, MI\, United States
CATEGORIES:Games
END:VEVENT
END:VCALENDAR